BEGIN:VCALENDAR
VERSION:2.0
PRODID:-//Réseaux SBEA C2EA - ECPv6.15.20//NONSGML v1.0//EN
CALSCALE:GREGORIAN
METHOD:PUBLISH
X-ORIGINAL-URL:https://sbea-c2ea.fr
X-WR-CALDESC:Évènements pour Réseaux SBEA C2EA
REFRESH-INTERVAL;VALUE=DURATION:PT1H
X-Robots-Tag:noindex
X-PUBLISHED-TTL:PT1H
BEGIN:VTIMEZONE
TZID:Europe/Paris
BEGIN:DAYLIGHT
TZOFFSETFROM:+0100
TZOFFSETTO:+0200
TZNAME:CEST
DTSTART:20210328T010000
END:DAYLIGHT
BEGIN:STANDARD
TZOFFSETFROM:+0200
TZOFFSETTO:+0100
TZNAME:CET
DTSTART:20211031T010000
END:STANDARD
BEGIN:DAYLIGHT
TZOFFSETFROM:+0100
TZOFFSETTO:+0200
TZNAME:CEST
DTSTART:20220327T010000
END:DAYLIGHT
BEGIN:STANDARD
TZOFFSETFROM:+0200
TZOFFSETTO:+0100
TZNAME:CET
DTSTART:20221030T010000
END:STANDARD
BEGIN:DAYLIGHT
TZOFFSETFROM:+0100
TZOFFSETTO:+0200
TZNAME:CEST
DTSTART:20230326T010000
END:DAYLIGHT
BEGIN:STANDARD
TZOFFSETFROM:+0200
TZOFFSETTO:+0100
TZNAME:CET
DTSTART:20231029T010000
END:STANDARD
BEGIN:DAYLIGHT
TZOFFSETFROM:+0100
TZOFFSETTO:+0200
TZNAME:CEST
DTSTART:20240331T010000
END:DAYLIGHT
BEGIN:STANDARD
TZOFFSETFROM:+0200
TZOFFSETTO:+0100
TZNAME:CET
DTSTART:20241027T010000
END:STANDARD
BEGIN:DAYLIGHT
TZOFFSETFROM:+0100
TZOFFSETTO:+0200
TZNAME:CEST
DTSTART:20250330T010000
END:DAYLIGHT
BEGIN:STANDARD
TZOFFSETFROM:+0200
TZOFFSETTO:+0100
TZNAME:CET
DTSTART:20251026T010000
END:STANDARD
BEGIN:DAYLIGHT
TZOFFSETFROM:+0100
TZOFFSETTO:+0200
TZNAME:CEST
DTSTART:20260329T010000
END:DAYLIGHT
BEGIN:STANDARD
TZOFFSETFROM:+0200
TZOFFSETTO:+0100
TZNAME:CET
DTSTART:20261025T010000
END:STANDARD
END:VTIMEZONE
BEGIN:VEVENT
DTSTART;TZID=Europe/Paris:20251216T080000
DTEND;TZID=Europe/Paris:20251216T173000
DTSTAMP:20260420T055403
CREATED:20251016T084423Z
LAST-MODIFIED:20251016T084539Z
UID:3536-1765872000-1765906200@sbea-c2ea.fr
SUMMARY:Atelier SBEA Paris
DESCRIPTION:
URL:https://sbea-c2ea.fr/evenement/atelier-sbea-paris/
LOCATION:Paris\, France
ATTACH;FMTTYPE=image/png:https://sbea-c2ea.fr/wp-content/uploads/2021/02/Logo_SBEA.png
END:VEVENT
BEGIN:VEVENT
DTSTART;TZID=Europe/Paris:20250613T080000
DTEND;TZID=Europe/Paris:20250613T170000
DTSTAMP:20260420T055403
CREATED:20241202T205228Z
LAST-MODIFIED:20250303T125029Z
UID:3343-1749801600-1749834000@sbea-c2ea.fr
SUMMARY:Webinaire "Bien-être des poissons : des vieilles idées jusqu'aux concepts nouveaux et pratiques du futur" - ComAqua
DESCRIPTION:
URL:https://sbea-c2ea.fr/evenement/webinaire-bien-etre-des-poissons-des-vieilles-idees-jusquaux-concepts-nouveaux-et-pratiques-du-futur-comaqua/
CATEGORIES:Agenda,Évènement mis en avant sur l'accueil
ATTACH;FMTTYPE=image/png:https://sbea-c2ea.fr/wp-content/uploads/2024/12/Zebrafish-1536x996-1.png
END:VEVENT
BEGIN:VEVENT
DTSTART;TZID=Europe/Paris:20250602T080000
DTEND;TZID=Europe/Paris:20250605T190000
DTSTAMP:20260420T055403
CREATED:20241129T093804Z
LAST-MODIFIED:20241129T094706Z
UID:3253-1748851200-1749150000@sbea-c2ea.fr
SUMMARY:Congrès FELASA 2025
DESCRIPTION:
URL:https://sbea-c2ea.fr/evenement/congres-felasa-2025/
LOCATION:Athènes\, Grèce
CATEGORIES:Agenda,Évènement mis en avant sur l'accueil
ATTACH;FMTTYPE=image/png:https://sbea-c2ea.fr/wp-content/uploads/2024/11/FELASA2025_Flyer_A4-728x1030-1.png
END:VEVENT
BEGIN:VEVENT
DTSTART;TZID=Europe/Paris:20250523T080000
DTEND;TZID=Europe/Paris:20250523T170000
DTSTAMP:20260420T055403
CREATED:20241202T204944Z
LAST-MODIFIED:20250303T101659Z
UID:3339-1747987200-1748019600@sbea-c2ea.fr
SUMMARY:Webinaire "Le certificat de capacité en lien avec l'utilisation d'animaux à des fins scientifiques en animalerie recherche" - ComAqua
DESCRIPTION:
URL:https://sbea-c2ea.fr/evenement/webinaires-sur-les-modeles-aquatiques-comaqua-2/
CATEGORIES:Agenda,Évènement mis en avant sur l'accueil
ATTACH;FMTTYPE=image/png:https://sbea-c2ea.fr/wp-content/uploads/2024/12/Zebrafish-1536x996-1.png
END:VEVENT
BEGIN:VEVENT
DTSTART;VALUE=DATE:20250512
DTEND;VALUE=DATE:20250515
DTSTAMP:20260420T055403
CREATED:20250303T100220Z
LAST-MODIFIED:20250303T101639Z
UID:3387-1747008000-1747267199@sbea-c2ea.fr
SUMMARY:InterComs AFSTAL 2025
DESCRIPTION:
URL:https://sbea-c2ea.fr/evenement/intercoms-afstal-2025/
LOCATION:Paris\, France
CATEGORIES:Agenda,Évènement mis en avant sur l'accueil
ATTACH;FMTTYPE=image/jpeg:https://sbea-c2ea.fr/wp-content/uploads/2025/03/Intercoms-2025.jpg
END:VEVENT
BEGIN:VEVENT
DTSTART;TZID=Europe/Paris:20250402T080000
DTEND;TZID=Europe/Paris:20250405T170000
DTSTAMP:20260420T055403
CREATED:20241202T194933Z
LAST-MODIFIED:20250303T125002Z
UID:3287-1743580800-1743872400@sbea-c2ea.fr
SUMMARY:7ème colloque européen pour les chefs d’équipe et responsables de plateforme travaillant avec le poisson zèbre
DESCRIPTION:
URL:https://sbea-c2ea.fr/evenement/7eme-colloque-europeen-pour-les-chefs-dequipe-et-responsables-de-plateforme-travaillant-avec-le-poisson-zebre/
LOCATION:Institut du Cerveau\, 50/52 Bd Vincent Auriol\, Paris\, 75013\, France
CATEGORIES:Agenda,Évènement mis en avant sur l'accueil
ATTACH;FMTTYPE=image/png:https://sbea-c2ea.fr/wp-content/uploads/2024/12/Screenshot-2024-12-02-at-20-23-57-7th-European-Zebrafish-Principal-Investigators-Meeting-PI-european-zebrafish-meeting-2025-Paris-Paris-France-e1733170237493.png
END:VEVENT
BEGIN:VEVENT
DTSTART;TZID=Europe/Paris:20250131T080000
DTEND;TZID=Europe/Paris:20250131T170000
DTSTAMP:20260420T055403
CREATED:20241202T204402Z
LAST-MODIFIED:20241202T205707Z
UID:3321-1738310400-1738342800@sbea-c2ea.fr
SUMMARY:Webinaire "Réglementation OGM appliquée aux poissons" - COMAQUA
DESCRIPTION:
URL:https://sbea-c2ea.fr/evenement/webinaires-sur-les-modeles-aquatiques-comaqua/
CATEGORIES:Agenda,Évènement mis en avant sur l'accueil
ATTACH;FMTTYPE=image/png:https://sbea-c2ea.fr/wp-content/uploads/2024/12/Zebrafish-1536x996-1.png
END:VEVENT
BEGIN:VEVENT
DTSTART;VALUE=DATE:20250123
DTEND;VALUE=DATE:20250124
DTSTAMP:20260420T055403
CREATED:20240704T101827Z
LAST-MODIFIED:20241129T094521Z
UID:3123-1737590400-1737676799@sbea-c2ea.fr
SUMMARY:ComTech 2025
DESCRIPTION:
URL:https://sbea-c2ea.fr/evenement/comtech-2025/
LOCATION:Paris\, France
ATTACH;FMTTYPE=image/png:https://sbea-c2ea.fr/wp-content/uploads/2024/11/Capture-decran-2024-08-30-162734-274x382-1.png
END:VEVENT
BEGIN:VEVENT
DTSTART;TZID=Europe/Paris:20241125T090000
DTEND;TZID=Europe/Paris:20241125T180000
DTSTAMP:20260420T055403
CREATED:20240926T124153Z
LAST-MODIFIED:20240926T124452Z
UID:3201-1732525200-1732557600@sbea-c2ea.fr
SUMMARY:Atelier Microbiote
DESCRIPTION:
URL:https://sbea-c2ea.fr/evenement/atelier-microbiote/
END:VEVENT
BEGIN:VEVENT
DTSTART;TZID=Europe/Paris:20241121T130000
DTEND;TZID=Europe/Paris:20241122T131500
DTSTAMP:20260420T055403
CREATED:20240926T122820Z
LAST-MODIFIED:20240926T124835Z
UID:3192-1732194000-1732281300@sbea-c2ea.fr
SUMMARY:Journées françaises des 3R
DESCRIPTION:Les 21 et 22 novembre 2024\, le FC3R organisera les premières « Journées Françaises des 3R » à l’École nationale vétérinaire d’Alfort (EnvA). Ce colloque scientifique s’articulera autour de trois thématiques principales : la mise en place d’outils de partage 3R\, le remplacement et les approches numériques 3R.
URL:https://sbea-c2ea.fr/evenement/journees-francaises-des-3r/
LOCATION:Ecole Nationale Vétérinaire d’Alfort\, 7 Av. du Général de Gaulle\, Maisons-Alfort\, 94700
END:VEVENT
BEGIN:VEVENT
DTSTART;TZID=Europe/Paris:20241120T090000
DTEND;TZID=Europe/Paris:20241121T120000
DTSTAMP:20260420T055403
CREATED:20241024T143313Z
LAST-MODIFIED:20241024T143407Z
UID:3231-1732093200-1732190400@sbea-c2ea.fr
SUMMARY:RSPCA’s 6th international Focus on Severe Suffering meeting
DESCRIPTION:
URL:https://sbea-c2ea.fr/evenement/rspcas-6th-international-focus-on-severe-suffering-meeting/
END:VEVENT
BEGIN:VEVENT
DTSTART;TZID=Europe/Paris:20241107T090000
DTEND;TZID=Europe/Paris:20241107T180000
DTSTAMP:20260420T055403
CREATED:20240704T101050Z
LAST-MODIFIED:20240704T101101Z
UID:3117-1730970000-1731002400@sbea-c2ea.fr
SUMMARY:16ème colloque Le Club des belles souris
DESCRIPTION:
URL:https://sbea-c2ea.fr/evenement/16emee-colloque-le-club-des-belles-souris/
LOCATION:Grenoble
END:VEVENT
BEGIN:VEVENT
DTSTART;VALUE=DATE:20240925
DTEND;VALUE=DATE:20240926
DTSTAMP:20260420T055403
CREATED:20240704T090721Z
LAST-MODIFIED:20240704T091725Z
UID:3105-1727222400-1727308799@sbea-c2ea.fr
SUMMARY:Journée ComEd
DESCRIPTION:
URL:https://sbea-c2ea.fr/evenement/journee-comed/
LOCATION:Paris\, France
END:VEVENT
BEGIN:VEVENT
DTSTART;VALUE=DATE:20240923
DTEND;VALUE=DATE:20240925
DTSTAMP:20260420T055403
CREATED:20240704T085052Z
LAST-MODIFIED:20240704T085646Z
UID:3092-1727049600-1727222399@sbea-c2ea.fr
SUMMARY:Journées InterComs 23 et 24 septembre 2024
DESCRIPTION:
URL:https://sbea-c2ea.fr/evenement/journees-intercoms-23-et-24-septembre-2024/
LOCATION:Paris\, France
END:VEVENT
BEGIN:VEVENT
DTSTART;VALUE=DATE:20240124
DTEND;VALUE=DATE:20240125
DTSTAMP:20260420T055403
CREATED:20231027T131728Z
LAST-MODIFIED:20231027T131736Z
UID:2820-1706054400-1706140799@sbea-c2ea.fr
SUMMARY:ComTech 2024
DESCRIPTION:
URL:https://sbea-c2ea.fr/evenement/comtech-2024/
LOCATION:Paris\, France
CATEGORIES:Évènement mis en avant sur l'accueil
ATTACH;FMTTYPE=image/png:https://sbea-c2ea.fr/wp-content/uploads/2023/07/logo_AFSTAL.png
END:VEVENT
BEGIN:VEVENT
DTSTART;VALUE=DATE:20231123
DTEND;VALUE=DATE:20231125
DTSTAMP:20260420T055403
CREATED:20231027T131333Z
LAST-MODIFIED:20231027T131351Z
UID:2817-1700697600-1700870399@sbea-c2ea.fr
SUMMARY:Congrès annuel de la Société Française de Toxicologie
DESCRIPTION:
URL:https://sbea-c2ea.fr/evenement/congres-annuel-de-la-societe-francaise-de-toxicologie/
LOCATION:Paris\, France
CATEGORIES:Évènement mis en avant sur l'accueil
END:VEVENT
BEGIN:VEVENT
DTSTART;VALUE=DATE:20231017
DTEND;VALUE=DATE:20231019
DTSTAMP:20260420T055403
CREATED:20230721T144646Z
LAST-MODIFIED:20230721T145054Z
UID:2741-1697500800-1697673599@sbea-c2ea.fr
SUMMARY:Journée InterCom de l'AFSTAL
DESCRIPTION:
URL:https://sbea-c2ea.fr/evenement/journee-intercom-de-lafstal/
LOCATION:Lyon
CATEGORIES:Agenda,Évènement mis en avant sur l'accueil
ATTACH;FMTTYPE=image/png:https://sbea-c2ea.fr/wp-content/uploads/2023/07/logo_AFSTAL.png
END:VEVENT
BEGIN:VEVENT
DTSTART;VALUE=DATE:20230620
DTEND;VALUE=DATE:20230621
DTSTAMP:20260420T055403
CREATED:20220308T152241Z
LAST-MODIFIED:20230629T130753Z
UID:2157-1687219200-1687305599@sbea-c2ea.fr
SUMMARY:Journée Groupement Animaleries 2023
DESCRIPTION:
URL:https://sbea-c2ea.fr/evenement/journee-groupement-animaleries-2022/
ATTACH;FMTTYPE=image/png:https://sbea-c2ea.fr/wp-content/uploads/2020/09/Logo-GAG.png
END:VEVENT
BEGIN:VEVENT
DTSTART;TZID=Europe/Paris:20230607T090000
DTEND;TZID=Europe/Paris:20230609T120000
DTSTAMP:20260420T055403
CREATED:20220630T123748Z
LAST-MODIFIED:20230629T130828Z
UID:2511-1686128400-1686312000@sbea-c2ea.fr
SUMMARY:Congrès AFSTAL 2023
DESCRIPTION:
URL:https://sbea-c2ea.fr/evenement/journees-afstal-2022-50-ans/
LOCATION:Bordeaux
ATTACH;FMTTYPE=image/jpeg:https://sbea-c2ea.fr/wp-content/uploads/2023/03/header.jpg
END:VEVENT
BEGIN:VEVENT
DTSTART;TZID=Europe/Paris:20221115T090000
DTEND;TZID=Europe/Paris:20221115T184500
DTSTAMP:20260420T055403
CREATED:20220630T094739Z
LAST-MODIFIED:20220811T135813Z
UID:2496-1668502800-1668537900@sbea-c2ea.fr
SUMMARY:14ème Colloque des Belles Souris
DESCRIPTION:
URL:https://sbea-c2ea.fr/evenement/14eme-colloque-des-belles-souris/
LOCATION:Grenoble
ATTACH;FMTTYPE=image/jpeg:https://sbea-c2ea.fr/wp-content/uploads/2022/06/Affiche-CBS2022F.jpg
END:VEVENT
BEGIN:VEVENT
DTSTART;TZID=Europe/Paris:20221014T080000
DTEND;TZID=Europe/Paris:20221014T170000
DTSTAMP:20260420T055403
CREATED:20220421T114503Z
LAST-MODIFIED:20220811T135920Z
UID:2248-1665734400-1665766800@sbea-c2ea.fr
SUMMARY:Colloque OPAL 2022
DESCRIPTION:
URL:https://sbea-c2ea.fr/evenement/colloque-opal-2022/
LOCATION:Paris\, France
CATEGORIES:Évènement mis en avant sur l'accueil
ATTACH;FMTTYPE=image/jpeg:https://sbea-c2ea.fr/wp-content/uploads/2022/04/header.jpg
END:VEVENT
BEGIN:VEVENT
DTSTART;VALUE=DATE:20221005
DTEND;VALUE=DATE:20221008
DTSTAMP:20260420T055403
CREATED:20220630T090830Z
LAST-MODIFIED:20220811T140016Z
UID:2489-1664928000-1665187199@sbea-c2ea.fr
SUMMARY:Colloque de la Société Francophone de Primatologie
DESCRIPTION:
URL:https://sbea-c2ea.fr/evenement/colloque-de-la-societe-francophone-de-primatologie/
LOCATION:Aix en Provence
CATEGORIES:Évènement mis en avant sur l'accueil
END:VEVENT
BEGIN:VEVENT
DTSTART;VALUE=DATE:20220908
DTEND;VALUE=DATE:20220910
DTSTAMP:20260420T055403
CREATED:20220630T085535Z
LAST-MODIFIED:20220630T091523Z
UID:2484-1662595200-1662767999@sbea-c2ea.fr
SUMMARY:Journées RESAMA 2022
DESCRIPTION:
URL:https://sbea-c2ea.fr/evenement/journees-resama-2022/
LOCATION:Paris\, France
CATEGORIES:Évènement mis en avant sur l'accueil
END:VEVENT
BEGIN:VEVENT
DTSTART;TZID=Europe/Paris:20220721T100000
DTEND;TZID=Europe/Paris:20220721T110000
DTSTAMP:20260420T055403
CREATED:20220630T084427Z
LAST-MODIFIED:20220630T095103Z
UID:2478-1658397600-1658401200@sbea-c2ea.fr
SUMMARY:Using both sexes in animal experiments (webinaire)
DESCRIPTION:
URL:https://sbea-c2ea.fr/evenement/using-both-sexes-in-animal-experiments-webinaire/
CATEGORIES:Évènement mis en avant sur l'accueil
ATTACH;FMTTYPE=image/png:https://sbea-c2ea.fr/wp-content/uploads/2022/06/NC3R.png
END:VEVENT
BEGIN:VEVENT
DTSTART;VALUE=DATE:20220613
DTEND;VALUE=DATE:20220617
DTSTAMP:20260420T055403
CREATED:20211208T160521Z
LAST-MODIFIED:20220316T130030Z
UID:1999-1655078400-1655423999@sbea-c2ea.fr
SUMMARY:FELASA 2022
DESCRIPTION:
URL:https://sbea-c2ea.fr/evenement/felasa-2022/
LOCATION:Marseille
CATEGORIES:Évènement mis en avant sur l'accueil
ATTACH;FMTTYPE=image/png:https://sbea-c2ea.fr/wp-content/uploads/2021/12/logo-felasa-2022.png
END:VEVENT
BEGIN:VEVENT
DTSTART;VALUE=DATE:20220405
DTEND;VALUE=DATE:20220406
DTSTAMP:20260420T055403
CREATED:20220308T125327Z
LAST-MODIFIED:20220316T130139Z
UID:2148-1649116800-1649203199@sbea-c2ea.fr
SUMMARY:ComAgri 2022 (AFSTAL)
DESCRIPTION:
URL:https://sbea-c2ea.fr/evenement/comagri-2022/
CATEGORIES:Évènement mis en avant sur l'accueil
ATTACH;FMTTYPE=image/png:https://sbea-c2ea.fr/wp-content/uploads/2020/11/logo_AFSTAL.png
END:VEVENT
BEGIN:VEVENT
DTSTART;VALUE=DATE:20220331
DTEND;VALUE=DATE:20220401
DTSTAMP:20260420T055403
CREATED:20220308T124910Z
LAST-MODIFIED:20220317T142141Z
UID:2145-1648684800-1648771199@sbea-c2ea.fr
SUMMARY:ComTech 2022 (AFSTAL)
DESCRIPTION:
URL:https://sbea-c2ea.fr/evenement/comtech-2022/
CATEGORIES:Évènement mis en avant sur l'accueil
ATTACH;FMTTYPE=image/jpeg:https://sbea-c2ea.fr/wp-content/uploads/2022/03/ComTech-2022.jpg
END:VEVENT
END:VCALENDAR