BEGIN:VCALENDAR
VERSION:2.0
PRODID:-//Réseaux SBEA C2EA - ECPv6.15.20//NONSGML v1.0//EN
CALSCALE:GREGORIAN
METHOD:PUBLISH
X-WR-CALNAME:Réseaux SBEA C2EA
X-ORIGINAL-URL:https://sbea-c2ea.fr
X-WR-CALDESC:Évènements pour Réseaux SBEA C2EA
REFRESH-INTERVAL;VALUE=DURATION:PT1H
X-Robots-Tag:noindex
X-PUBLISHED-TTL:PT1H
BEGIN:VTIMEZONE
TZID:Europe/Paris
BEGIN:DAYLIGHT
TZOFFSETFROM:+0100
TZOFFSETTO:+0200
TZNAME:CEST
DTSTART:20250330T010000
END:DAYLIGHT
BEGIN:STANDARD
TZOFFSETFROM:+0200
TZOFFSETTO:+0100
TZNAME:CET
DTSTART:20251026T010000
END:STANDARD
BEGIN:DAYLIGHT
TZOFFSETFROM:+0100
TZOFFSETTO:+0200
TZNAME:CEST
DTSTART:20260329T010000
END:DAYLIGHT
BEGIN:STANDARD
TZOFFSETFROM:+0200
TZOFFSETTO:+0100
TZNAME:CET
DTSTART:20261025T010000
END:STANDARD
BEGIN:DAYLIGHT
TZOFFSETFROM:+0100
TZOFFSETTO:+0200
TZNAME:CEST
DTSTART:20270328T010000
END:DAYLIGHT
BEGIN:STANDARD
TZOFFSETFROM:+0200
TZOFFSETTO:+0100
TZNAME:CET
DTSTART:20271031T010000
END:STANDARD
END:VTIMEZONE
BEGIN:VEVENT
DTSTART;TZID=Europe/Paris:20260602T133000
DTEND;TZID=Europe/Paris:20260603T123000
DTSTAMP:20260420T030530
CREATED:20260330T160311Z
LAST-MODIFIED:20260330T161639Z
UID:3709-1780407000-1780489800@sbea-c2ea.fr
SUMMARY:Ateliers SBEA Montpellier
DESCRIPTION:
URL:https://sbea-c2ea.fr/evenement/ateliers-sbea-montpellier/
LOCATION:Montpellier
ATTACH;FMTTYPE=image/png:https://sbea-c2ea.fr/wp-content/uploads/2021/02/Logo_SBEA.png
END:VEVENT
BEGIN:VEVENT
DTSTART;TZID=Europe/Paris:20260609T134500
DTEND;TZID=Europe/Paris:20260609T173000
DTSTAMP:20260420T030530
CREATED:20260210T084251Z
LAST-MODIFIED:20260210T162843Z
UID:2515-1781012700-1781026200@sbea-c2ea.fr
SUMMARY:7ème demi-journée du Réseau National SBEA
DESCRIPTION:
URL:https://sbea-c2ea.fr/evenement/3eme-demi-journee-du-reseau-national-sbea/
LOCATION:Reims
CATEGORIES:Agenda,Évènement mis en avant sur l'accueil
ATTACH;FMTTYPE=image/png:https://sbea-c2ea.fr/wp-content/uploads/2021/02/Logo_SBEA.png
END:VEVENT
BEGIN:VEVENT
DTSTART;TZID=Europe/Paris:20260610T080000
DTEND;TZID=Europe/Paris:20260612T120000
DTSTAMP:20260420T030530
CREATED:20260210T095417Z
LAST-MODIFIED:20260210T163904Z
UID:3268-1781078400-1781265600@sbea-c2ea.fr
SUMMARY:Congrès AFSTAL 2026
DESCRIPTION:
URL:https://sbea-c2ea.fr/evenement/3268/
LOCATION:Reims
CATEGORIES:Agenda,Évènement mis en avant sur l'accueil
ATTACH;FMTTYPE=image/jpeg:https://sbea-c2ea.fr/wp-content/uploads/2026/02/Affiche_Afstal2026-pdf-728x1030-1.jpg
END:VEVENT
BEGIN:VEVENT
DTSTART;TZID=Europe/Paris:20261007T133000
DTEND;TZID=Europe/Paris:20261008T123000
DTSTAMP:20260420T030530
CREATED:20260330T160926Z
LAST-MODIFIED:20260330T161717Z
UID:3712-1791379800-1791462600@sbea-c2ea.fr
SUMMARY:Ateliers SBEA Nice
DESCRIPTION:
URL:https://sbea-c2ea.fr/evenement/ateliers-sbea-montpellier-2/
LOCATION:Nice
CATEGORIES:Évènement mis en avant sur l'accueil
ATTACH;FMTTYPE=image/png:https://sbea-c2ea.fr/wp-content/uploads/2021/02/Logo_SBEA.png
END:VEVENT
END:VCALENDAR